BEGIN:VCALENDAR
PRODID:-//Drupal//iCal file//EN
VERSION:2.0
METHOD:PUBLISH
BEGIN:VEVENT
UID:211c1e0b83b9c69fa9c4bdede203c1e3-2175-3f0b035c4eb5122bd028c89df9a0a804
DTSTART:2009-06-06T12:30:00
DTEND:2009-06-06T12:30:00
LOCATION: Granlofältet
SUMMARY:Brännbollsturnering
URL:http://borstmasteriet.se/node/2175
CREATED:20090506T122828Z
LAST-MODIFIED:20131216T161205Z
END:VEVENT
END:VCALENDAR