BEGIN:VCALENDAR
PRODID:-//Drupal//iCal file//EN
VERSION:2.0
METHOD:PUBLISH
BEGIN:VEVENT
UID:229754d7799160502a143a72f6789927-2294-3f0b035c4eb5122bd028c89df9a0a804
DTSTART:2010-05-07T00:00:00
DTEND:2010-05-09T00:00:00
LOCATION: Kneippbyn, Gotland
SUMMARY:Absolut Gotland
URL:http://borstmasteriet.se/node/2294
CREATED:20100304T111432Z
LAST-MODIFIED:20110221T124830Z
END:VEVENT
END:VCALENDAR