BEGIN:VCALENDAR
PRODID:-//Drupal//iCal file//EN
VERSION:2.0
METHOD:PUBLISH
BEGIN:VEVENT
UID:0b7e926154c1274e8b602ff0d7c133d7-2647-1cd571ef8334b42a3da1e3923c30dc81
DTSTART:2011-05-19T00:00:00
DTEND:2011-05-22T00:00:00
LOCATION: Gotland
SUMMARY:Absolut Gotland
URL:https://borstmasteriet.se/node/2647
CREATED:20110324T125656Z
LAST-MODIFIED:20110409T200258Z
END:VEVENT
END:VCALENDAR