BEGIN:VCALENDAR
PRODID:-//Drupal//iCal file//EN
VERSION:2.0
METHOD:PUBLISH
BEGIN:VEVENT
UID:4191ef5f6c1576762869ac49281130c9-2793-1cd571ef8334b42a3da1e3923c30dc81
DTSTART:2013-01-20T00:00:00
DTEND:2013-01-24T00:00:00
LOCATION: Vemdalsskalet
SUMMARY:Student SkiWeek
URL:https://borstmasteriet.se/node/2793
CREATED:20120920T210319Z
LAST-MODIFIED:20130305T064133Z
END:VEVENT
END:VCALENDAR