BEGIN:VCALENDAR
PRODID:-//Drupal//iCal file//EN
VERSION:2.0
METHOD:PUBLISH
BEGIN:VEVENT
UID:6624b6d8217cf71640993409df58204f-2930-1cd571ef8334b42a3da1e3923c30dc81
DTSTART:2014-03-08T13:00:00
DTEND:2014-03-08T13:00:00
LOCATION: Förrådet
SUMMARY:Russian BBQ
URL:https://borstmasteriet.se/node/2930
CREATED:20140202T155045Z
LAST-MODIFIED:20140202T155134Z
END:VEVENT
END:VCALENDAR