BEGIN:VCALENDAR
PRODID:-//Drupal//iCal file//EN
VERSION:2.0
METHOD:PUBLISH
BEGIN:VEVENT
UID:d60678e8f2ba9c540798ebbde31177e8-3162-1cd571ef8334b42a3da1e3923c30dc81
DTSTART:2016-02-27T13:00:00
DTEND:2016-02-27T13:00:00
LOCATION: Förrådet
SUMMARY:Russian BBQ
URL:https://borstmasteriet.se/node/3162
CREATED:20160221T165901Z
LAST-MODIFIED:20160221T165902Z
END:VEVENT
END:VCALENDAR